BEGIN:VCALENDAR
VERSION:2.0
PRODID:-//Guardini Stiftung e.V. - ECPv6.15.20//NONSGML v1.0//EN
CALSCALE:GREGORIAN
METHOD:PUBLISH
X-ORIGINAL-URL:https://www.guardini.de
X-WR-CALDESC:Veranstaltungen für Guardini Stiftung e.V.
REFRESH-INTERVAL;VALUE=DURATION:PT1H
X-Robots-Tag:noindex
X-PUBLISHED-TTL:PT1H
BEGIN:VTIMEZONE
TZID:Europe/Berlin
BEGIN:DAYLIGHT
TZOFFSETFROM:+0100
TZOFFSETTO:+0200
TZNAME:CEST
DTSTART:20230326T010000
END:DAYLIGHT
BEGIN:STANDARD
TZOFFSETFROM:+0200
TZOFFSETTO:+0100
TZNAME:CET
DTSTART:20231029T010000
END:STANDARD
BEGIN:DAYLIGHT
TZOFFSETFROM:+0100
TZOFFSETTO:+0200
TZNAME:CEST
DTSTART:20240331T010000
END:DAYLIGHT
BEGIN:STANDARD
TZOFFSETFROM:+0200
TZOFFSETTO:+0100
TZNAME:CET
DTSTART:20241027T010000
END:STANDARD
BEGIN:DAYLIGHT
TZOFFSETFROM:+0100
TZOFFSETTO:+0200
TZNAME:CEST
DTSTART:20250330T010000
END:DAYLIGHT
BEGIN:STANDARD
TZOFFSETFROM:+0200
TZOFFSETTO:+0100
TZNAME:CET
DTSTART:20251026T010000
END:STANDARD
END:VTIMEZONE
BEGIN:VEVENT
DTSTART;TZID=Europe/Berlin:20241015T180000
DTEND;TZID=Europe/Berlin:20241015T180000
DTSTAMP:20260419T143841
CREATED:20241011T090458Z
LAST-MODIFIED:20241015T143759Z
UID:7158-1729015200-1729015200@www.guardini.de
SUMMARY:Feierliche Semestereröffnung und Antrittsvorlesung der neuen Inhaberin der Guardini-Professur für Religionsphilosophie und Theologische Ideengeschichte
DESCRIPTION:Feierliche Eröffnung und Antrittsvorlesung der neuen Inhaberin der Guardini-Professur für Religionsphilosophie und Theologische Ideengeschichte Prof. DDr. Isabella Guanzini. \n\n\nProf. DDr. Isabella Guanzini: Übersetzungen. Das Religiöse im säkularen Denken \nAnschließend gibt es bei einem Empfang Gelegenheit zum Austausch und Gespräch. \nEinladung_Semestereröffnung 2024 \n  \n\n\n\n\n\n\n\n\n\n 
URL:https://www.guardini.de/veranstaltung/feierliche-semestereroeffnung-und-antrittsvorlesung-der-neuen-inhaberin-der-guardini-professur-fuer-religionsphilosophie-und-theologische-ideengeschichte/
LOCATION:Hannoversche Straße 6\, 10115 Berlin\, Säulenhalle Mitteltrakt\, Hannoversche Straße 6\, Berlin\, Berlin\, 10115\, Germany
CATEGORIES:Wintersemester 2024/25
END:VEVENT
BEGIN:VEVENT
DTSTART;TZID=Europe/Berlin:20241024T193000
DTEND;TZID=Europe/Berlin:20241024T193000
DTSTAMP:20260419T143841
CREATED:20241014T121812Z
LAST-MODIFIED:20241016T144416Z
UID:7175-1729798200-1729798200@www.guardini.de
SUMMARY:Feierliche Eröffnung der Guardini-Lectures und 1. Vortrag
DESCRIPTION:Feierliche Eröffnung und erster Vortrag der Guardini-Lectures im Rahmen der Guardini Professur mit dem Zentralinstitut für Katholische Theologie an der Humboldt-Universität (IKT) \nProf. em. Dr. Hans-Joachim Höhn \nDie Fragen der Vernunft – Religion als Gegenstand der Philosophie \nPhilosophische Dreierkette: Können\, Sollen\, Dürfen – Fragen und Fraglichkeit: Was Philosophie und Religion verbindet und unterscheidet – Aufklärung/Kritik/Verständigung: Aufgaben der Religionsphilosophie \nweitere Termine finden Sie im Veranstaltungskalender. \nOrt: Großer Hörsaal 008 (ebenerdig) der  Theologischen Fakultät\, Burgstr. 26\, 10178 Berlin \nEinladung HÖHN-LECTURES-EINLADUNG \n 
URL:https://www.guardini.de/veranstaltung/feierliche-auftaktveranstaltung-der-guardini-lectures/
LOCATION:Theologische Fakultät der Humboldt-Universität zu Berlin Raum 108 (1. OG)\, Burgstraße 26\, Berlin\, 10178\, Germany
CATEGORIES:Wintersemester 2024/25
END:VEVENT
END:VCALENDAR